{"text_format":"1","workbook":"xlsx","n_sheets":7,"sheets":["Anleitung","Guten Tag","Jury A","Jury B","Jury B(2)","Ergebnisse","PRESSE"],"not_rendered":{"charts":0,"images":1,"macros":1,"external_links":0,"defined_names":9,"comments":0,"pivot_tables":0},"unopened":[],"bounds":{"document_bytes":16777216,"sheet_cells":100000,"rows_first":2000,"rows_last":500,"rows_between":2000,"halvings":0,"cell_chars":16384,"cell_head_chars":4096},"cells_cut":0,"cells_raw":0,"read":"whole","date_system":"1900"}

{"sheet":"Anleitung","index":0,"n_rows":33,"n_cols":5,"rows_kept":33,"cut":false,"hidden":false,"merged":[[26,1,26,4],[27,1,27,4],[31,1,31,4],[32,1,32,4],[5,2,5,3],[17,1,17,4],[28,1,28,4],[29,1,29,4],[30,1,30,4],[18,1,18,4],[19,1,19,4],[20,1,20,4],[21,1,21,4],[22,1,22,4],[23,1,23,4],[24,1,24,4],[25,1,25,4],[16,1,16,4],[13,1,13,4],[14,1,15,4],[0,0,2,4],[9,1,12,4],[3,0,3,4]]}
[]
[]
[]
[]
[]
[null,null,"Teiler kann hier im Kasten geändert werden      ↓",null,"Stand: 2013"]
[null,null,"Anzahl der Juroren / Teiler Jury A =",3]
[null,null,"Anzahl der Juroren / Teiler Jury B =",3]
[]
[null,"Guten Tag liebe/r Kollegin/Kollege,\n\nSie sehen auf Ihrem Bildschirm ein Rechenprogramm des Achenbach-Wettbewerbs für 9 Teilnehmer.\nSollten Sie mehr Teilnehmer haben, wenden Sie sich an HJ. Mackes. Sie erhalten dann eine Mail mit bis zu 20 Teilnehmern."]
[]
[]
[]
[]
[null,"Nach dem Öffnen der Datei erscheint über der 1. Zeile die Sicherheitswarnung \"Makros wurden deaktiviert\".\nKlicken Sie auf \"Optionen\", wählen Sie \"Diesen Inhalt aktivieren\" und klicken Sie anschließend auf \"OK\"."]
[]
[]
[null,"Beim Teiler können Sie die Anzahl der Juroren eingeben, damit entsprechend geteilt wird."]
[]
[null,"Auf dem Tabellenblatt \"Guten Tag\"  geben sie die Namen, Betrieb und den Landesverband der Teilnehmer ein."]
[]
[null,"Auf den Tabellenblättern \"Jury A\" und \"Jury B\" sehen sie die neuen Bewertungen mit ihren Punkten."]
[null,"Wenn Sie auf die Tabellenüberschrift klicken (z. B. auf Menüausarbeitung), erscheint ein Hilfetext,"]
[null,"der Ihnen nochmals Informationen zur Punktevergabe zeigt. Sie können nicht mehr Punkte eingeben als die Höchstzahl."]
[null,"Berechnet wird automatisch - dies können Sie auf der Seite Ergebnisse sehen."]
[]
[null,"Die Presseliste wird automatisch unsortiert erstellt. Zur Sortierung drücken Sie am Ende des Wettbewerbs\n\n"]
[null,"oben im Menü auf \"Daten\", klicken Sie anschließend auf \"Sortieren\" und auf \"OK\"."]
[]
[null,"Bei Fragen wenden Sie sich an HJ. Mackes. --> Stuttgart. Tel. (privat): 0711 9905331."]
[]
[null,"Viel Erfolg!"]
[null,"HJ. Mackes"]

{"sheet":"Guten Tag","index":1,"n_rows":25,"n_cols":4,"rows_kept":25,"cut":false,"hidden":false,"merged":[[0,0,2,3]]}
[]
[]
[]
[]
["Nr: ","Name, Vorname:","Betrieb und Betriebsort:","Landesverband"]
[1]
[2]
[3]
[4]
[5]
[6]
[7]
[8]
[9]
[10]
[11]
[12]
[13]
[14]
[15]
[16]
[17]
[18]
[19]
[20]

{"sheet":"Jury A","index":2,"n_rows":27,"n_cols":24,"rows_kept":27,"cut":false,"hidden":false,"merged":[[0,0,2,19],[4,13,4,15],[4,16,4,18],[4,1,4,3],[4,4,4,6],[4,7,4,9],[4,10,4,12]]}
[]
[]
[]
[]
[" Nr.","Menüausarbeitung\n5 Punkte",null,null,"Zeiteinteilung\n5 Punkte",null,null,"Mice en place\n5 Punkte",null,null,"Sauberkeit\n5 Punkte",null,null,"Rohstoff/Material\n10 Punkte",null,null,"Arbeitstechniken\n15 Punkte",null,null,"Theorie\n15 Punkte",null,"Theorie","Warenerkennung","Summe"]
[1,null,null,null,null,null,null,null,null,null,null,null,null,null,null,null,null,null,null,{"$f":"IF(X6=\"\",\"\",X6)","v":""},1,null,null,{"$f":"IF(SUM(V6:W6)=0,\"\",SUM(V6:W6))","v":""}]
[2,null,null,null,null,null,null,null,null,null,null,null,null,null,null,null,null,null,null,{"$f":"IF(X7=\"\",\"\",X7)","v":""},2,null,null,""]
[3,null,null,null,null,null,null,null,null,null,null,null,null,null,null,null,null,null,null,"",3,null,null,""]
[4,null,null,null,null,null,null,null,null,null,null,null,null,null,null,null,null,null,null,"",4,null,null,""]
[5,null,null,null,null,null,null,null,null,null,null,null,null,null,null,null,null,null,null,"",5,null,null,""]
[6,null,null,null,null,null,null,null,null,null,null,null,null,null,null,null,null,null,null,"",6,null,null,""]
[7,null,null,null,null,null,null,null,null,null,null,null,null,null,null,null,null,null,null,"",7,null,null,""]
[8,null,null,null,null,null,null,null,null,null,null,null,null,null,null,null,null,null,null,"",8,null,null,""]
[9,null,null,null,null,null,null,null,null,null,null,null,null,null,null,null,null,null,null,"",9,null,null,""]
[10,null,null,null,null,null,null,null,null,null,null,null,null,null,null,null,null,null,null,null,null,null,null,{"$f":"SUM(V15:W15)","v":0}]
[11,null,null,null,null,null,null,null,null,null,null,null,null,null,null,null,null,null,null,null,null,null,null,0]
[12,null,null,null,null,null,null,null,null,null,null,null,null,null,null,null,null,null,null,null,null,null,null,0]
[13,null,null,null,null,null,null,null,null,null,null,null,null,null,null,null,null,null,null,null,null,null,null,0]
[14,null,null,null,null,null,null,null,null,null,null,null,null,null,null,null,null,null,null,null,null,null,null,0]
[15,null,null,null,null,null,null,null,null,null,null,null,null,null,null,null,null,null,null,null,null,null,null,0]
[16,null,null,null,null,null,null,null,null,null,null,null,null,null,null,null,null,null,null,null,null,null,null,0]
[17,null,null,null,null,null,null,null,null,null,null,null,null,null,null,null,null,null,null,null,null,null,null,0]
[18,null,null,null,null,null,null,null,null,null,null,null,null,null,null,null,null,null,null,null,null,null,null,0]
[19,null,null,null,null,null,null,null,null,null,null,null,null,null,null,null,null,null,null,null,null,null,null,0]
[20,null,null,null,null,null,null,null,null,null,null,null,null,null,null,null,null,null,null,null,null,null,null,0]
[null,null,null,null,null,null,null,null,null,null,null,null,null,null,null,null,null,null,null,null,null,null,null,0]
[null,null,null,null,null,null,null,null,null,null,null,null,null,null,null,null,null,null,null,null,null,null,null,0]

{"sheet":"Jury B","index":3,"n_rows":26,"n_cols":72,"rows_kept":26,"cut":false,"hidden":false,"merged":[[0,0,2,12],[4,0,5,0],[6,71,6,78],[5,1,5,3],[5,7,5,9],[4,1,4,6],[4,7,4,12],[5,4,5,6],[5,10,5,12]]}
[]
[]
[]
[]
["Nr.","1. Gang: Vorspeise oder Suppe",null,null,null,null,null,"2. Gang: Suppe oder Zwischengericht "]
[null,"Anrichteweise - 5 Punkte",null,null,"Geschmack - 5 Punkte",null,null,"Anrichteweise - 5 Punkte",null,null,"Geschmack - 5 Punkte"]
[1,null,null,null,null,null,null,null,null,null,null,null,null,null,null,null,null,null,null,null,null,null,null,null,null,null,null,null,null,null,null,null,null,null,null,null,null,null,null,null,null,null,null,null,null,null,null,null,null,null,null,null,null,null,null,null,null,null,null,null,null,null,null,null,null,null,null,null,null,null,null,"Eingabe der einzelnen Werte Jury A  und Theorie"]
[2]
[3]
[4]
[5]
[6]
[7]
[8]
[9]
[10]
[11]
[12]
[13]
[14]
[15]
[16]
[17]
[18]
[19]
[20]

{"sheet":"Jury B(2)","index":4,"n_rows":26,"n_cols":72,"rows_kept":26,"cut":false,"hidden":false,"merged":[[4,0,5,0],[0,0,2,12],[6,71,6,78],[5,1,5,3],[5,7,5,9],[4,1,4,6],[4,7,4,12],[5,4,5,6],[5,10,5,12]]}
[]
[]
[]
[]
["Nr.","3. Gang: Hauptgang",null,null,null,null,null,"4. Gang: Dessert"]
[null,"Anrichteweise - 5 Punkte",null,null,"Geschmack - 5 Punkte",null,null,"Anrichteweise - 5 Punkte",null,null,"Geschmack - 5 Punkte"]
[1,null,null,null,null,null,null,null,null,null,null,null,null,null,null,null,null,null,null,null,null,null,null,null,null,null,null,null,null,null,null,null,null,null,null,null,null,null,null,null,null,null,null,null,null,null,null,null,null,null,null,null,null,null,null,null,null,null,null,null,null,null,null,null,null,null,null,null,null,null,null,"Eingabe der einzelnen Werte Jury A  und Theorie"]
[2]
[3]
[4]
[5]
[6]
[7]
[8]
[9]
[10]
[11]
[12]
[13]
[14]
[15]
[16]
[17]
[18]
[19]
[20]

{"sheet":"Ergebnisse","index":5,"n_rows":30,"n_cols":19,"rows_kept":30,"cut":false,"hidden":false,"merged":[[0,0,2,17]]}
[]
[]
[]
[]
["AZUBI","Theorie","Menü-Ausarbeitung","Zeiteinteilung","Mice en Place","Sauberkeit ","Rohstoff & Material","Arbeits-techniken","Gang 1 Anrichten","Gang 1 Geschmack","Gang 2 Anrichten","Gang 2 Geschmack","Hauptgang Anrichten","Hauptgang Geschmack","Dessert Anrichten","Dessert Geschmack","SUMME","PLATZ (Rang)      ","PLATZ sortiert"]
[1,{"$f":"'Jury A'!T6","v":""},{"$f":"SUM('Jury A'!B6:D6)/Jury_A","v":0},{"$f":"SUM('Jury A'!E6:G6)/Jury_A","v":0},{"$f":"SUM('Jury A'!H6:J6)/Jury_A","v":0},{"$f":"SUM('Jury A'!K6:M6)/Jury_A","v":0},{"$f":"SUM('Jury A'!N6:P6)/Jury_A","v":0},{"$f":"SUM('Jury A'!Q6:S6)/Jury_A","v":0},{"$f":"SUM('Jury B'!B7:D7)/Jury_B","v":0},{"$f":"SUM('Jury B'!E7:G7)/Jury_B","v":0},{"$f":"SUM('Jury B'!H7:J7)/Jury_B","v":0},{"$f":"SUM('Jury B'!K7:M7)/Jury_B","v":0},{"$f":"SUM('Jury B(2)'!B7:D7)/Jury_B","v":0},{"$f":"SUM('Jury B(2)'!E7:G7)/Jury_B","v":0},{"$f":"SUM('Jury B(2)'!H7:J7)/Jury_B","v":0},{"$f":"SUM('Jury B(2)'!K7:M7)/Jury_B","v":0},{"$f":"SUM(B6:P6)","v":0},{"$f":"RANK(Q6,$Q$6:$Q$14)","v":1},{"$f":"RANK(R6,$R$6:$R$14)","v":1}]
[2,{"$f":"'Jury A'!T7","v":""},{"$f":"SUM('Jury A'!B7:D7)/Jury_A","v":0},{"$f":"SUM('Jury A'!E7:G7)/Jury_A","v":0},{"$f":"SUM('Jury A'!H7:J7)/Jury_A","v":0},{"$f":"SUM('Jury A'!K7:M7)/Jury_A","v":0},{"$f":"SUM('Jury A'!N7:P7)/Jury_A","v":0},{"$f":"SUM('Jury A'!Q7:S7)/Jury_A","v":0},{"$f":"SUM('Jury B'!B8:D8)/Jury_B","v":0},{"$f":"SUM('Jury B'!E8:G8)/Jury_B","v":0},{"$f":"SUM('Jury B'!H8:J8)/Jury_B","v":0},{"$f":"SUM('Jury B'!K8:M8)/Jury_B","v":0},{"$f":"SUM('Jury B(2)'!B8:D8)/Jury_B","v":0},{"$f":"SUM('Jury B(2)'!E8:G8)/Jury_B","v":0},{"$f":"SUM('Jury B(2)'!H8:J8)/Jury_B","v":0},{"$f":"SUM('Jury B(2)'!K8:M8)/Jury_B","v":0},0,1,1]
[3,{"$f":"'Jury A'!T8","v":""},{"$f":"SUM('Jury A'!B8:D8)/Jury_A","v":0},{"$f":"SUM('Jury A'!E8:G8)/Jury_A","v":0},{"$f":"SUM('Jury A'!H8:J8)/Jury_A","v":0},{"$f":"SUM('Jury A'!K8:M8)/Jury_A","v":0},{"$f":"SUM('Jury A'!N8:P8)/Jury_A","v":0},{"$f":"SUM('Jury A'!Q8:S8)/Jury_A","v":0},{"$f":"SUM('Jury B'!B9:D9)/Jury_B","v":0},{"$f":"SUM('Jury B'!E9:G9)/Jury_B","v":0},{"$f":"SUM('Jury B'!H9:J9)/Jury_B","v":0},{"$f":"SUM('Jury B'!K9:M9)/Jury_B","v":0},{"$f":"SUM('Jury B(2)'!B9:D9)/Jury_B","v":0},{"$f":"SUM('Jury B(2)'!E9:G9)/Jury_B","v":0},{"$f":"SUM('Jury B(2)'!H9:J9)/Jury_B","v":0},{"$f":"SUM('Jury B(2)'!K9:M9)/Jury_B","v":0},0,1,1]
[4,{"$f":"'Jury A'!T9","v":""},{"$f":"SUM('Jury A'!B9:D9)/Jury_A","v":0},{"$f":"SUM('Jury A'!E9:G9)/Jury_A","v":0},{"$f":"SUM('Jury A'!H9:J9)/Jury_A","v":0},{"$f":"SUM('Jury A'!K9:M9)/Jury_A","v":0},{"$f":"SUM('Jury A'!N9:P9)/Jury_A","v":0},{"$f":"SUM('Jury A'!Q9:S9)/Jury_A","v":0},{"$f":"SUM('Jury B'!B10:D10)/Jury_B","v":0},{"$f":"SUM('Jury B'!E10:G10)/Jury_B","v":0},{"$f":"SUM('Jury B'!H10:J10)/Jury_B","v":0},{"$f":"SUM('Jury B'!K10:M10)/Jury_B","v":0},{"$f":"SUM('Jury B(2)'!B10:D10)/Jury_B","v":0},{"$f":"SUM('Jury B(2)'!E10:G10)/Jury_B","v":0},{"$f":"SUM('Jury B(2)'!H10:J10)/Jury_B","v":0},{"$f":"SUM('Jury B(2)'!K10:M10)/Jury_B","v":0},0,1,1]
[5,{"$f":"'Jury A'!T10","v":""},{"$f":"SUM('Jury A'!B10:D10)/Jury_A","v":0},{"$f":"SUM('Jury A'!E10:G10)/Jury_A","v":0},{"$f":"SUM('Jury A'!H10:J10)/Jury_A","v":0},{"$f":"SUM('Jury A'!K10:M10)/Jury_A","v":0},{"$f":"SUM('Jury A'!N10:P10)/Jury_A","v":0},{"$f":"SUM('Jury A'!Q10:S10)/Jury_A","v":0},{"$f":"SUM('Jury B'!B11:D11)/Jury_B","v":0},{"$f":"SUM('Jury B'!E11:G11)/Jury_B","v":0},{"$f":"SUM('Jury B'!H11:J11)/Jury_B","v":0},{"$f":"SUM('Jury B'!K11:M11)/Jury_B","v":0},{"$f":"SUM('Jury B(2)'!B11:D11)/Jury_B","v":0},{"$f":"SUM('Jury B(2)'!E11:G11)/Jury_B","v":0},{"$f":"SUM('Jury B(2)'!H11:J11)/Jury_B","v":0},{"$f":"SUM('Jury B(2)'!K11:M11)/Jury_B","v":0},0,1,1]
[6,{"$f":"'Jury A'!T11","v":""},{"$f":"SUM('Jury A'!B11:D11)/Jury_A","v":0},{"$f":"SUM('Jury A'!E11:G11)/Jury_A","v":0},{"$f":"SUM('Jury A'!H11:J11)/Jury_A","v":0},{"$f":"SUM('Jury A'!K11:M11)/Jury_A","v":0},{"$f":"SUM('Jury A'!N11:P11)/Jury_A","v":0},{"$f":"SUM('Jury A'!Q11:S11)/Jury_A","v":0},{"$f":"SUM('Jury B'!B12:D12)/Jury_B","v":0},{"$f":"SUM('Jury B'!E12:G12)/Jury_B","v":0},{"$f":"SUM('Jury B'!H12:J12)/Jury_B","v":0},{"$f":"SUM('Jury B'!K12:M12)/Jury_B","v":0},{"$f":"SUM('Jury B(2)'!B12:D12)/Jury_B","v":0},{"$f":"SUM('Jury B(2)'!E12:G12)/Jury_B","v":0},{"$f":"SUM('Jury B(2)'!H12:J12)/Jury_B","v":0},{"$f":"SUM('Jury B(2)'!K12:M12)/Jury_B","v":0},0,1,1]
[7,{"$f":"'Jury A'!T12","v":""},{"$f":"SUM('Jury A'!B12:D12)/Jury_A","v":0},{"$f":"SUM('Jury A'!E12:G12)/Jury_A","v":0},{"$f":"SUM('Jury A'!H12:J12)/Jury_A","v":0},{"$f":"SUM('Jury A'!K12:M12)/Jury_A","v":0},{"$f":"SUM('Jury A'!N12:P12)/Jury_A","v":0},{"$f":"SUM('Jury A'!Q12:S12)/Jury_A","v":0},{"$f":"SUM('Jury B'!B13:D13)/Jury_B","v":0},{"$f":"SUM('Jury B'!E13:G13)/Jury_B","v":0},{"$f":"SUM('Jury B'!H13:J13)/Jury_B","v":0},{"$f":"SUM('Jury B'!K13:M13)/Jury_B","v":0},{"$f":"SUM('Jury B(2)'!B13:D13)/Jury_B","v":0},{"$f":"SUM('Jury B(2)'!E13:G13)/Jury_B","v":0},{"$f":"SUM('Jury B(2)'!H13:J13)/Jury_B","v":0},{"$f":"SUM('Jury B(2)'!K13:M13)/Jury_B","v":0},0,{"$f":"RANK(Q12,$Q$6:$Q$14)","v":1},1]
[8,{"$f":"'Jury A'!T13","v":""},{"$f":"SUM('Jury A'!B13:D13)/Jury_A","v":0},{"$f":"SUM('Jury A'!E13:G13)/Jury_A","v":0},{"$f":"SUM('Jury A'!H13:J13)/Jury_A","v":0},{"$f":"SUM('Jury A'!K13:M13)/Jury_A","v":0},{"$f":"SUM('Jury A'!N13:P13)/Jury_A","v":0},{"$f":"SUM('Jury A'!Q13:S13)/Jury_A","v":0},{"$f":"SUM('Jury B'!B14:D14)/Jury_B","v":0},{"$f":"SUM('Jury B'!E14:G14)/Jury_B","v":0},{"$f":"SUM('Jury B'!H14:J14)/Jury_B","v":0},{"$f":"SUM('Jury B'!K14:M14)/Jury_B","v":0},{"$f":"SUM('Jury B(2)'!B14:D14)/Jury_B","v":0},{"$f":"SUM('Jury B(2)'!E14:G14)/Jury_B","v":0},{"$f":"SUM('Jury B(2)'!H14:J14)/Jury_B","v":0},{"$f":"SUM('Jury B(2)'!K14:M14)/Jury_B","v":0},0,{"$f":"RANK(Q13,$Q$6:$Q$14)","v":1},1]
[9,{"$f":"'Jury A'!T14","v":""},{"$f":"SUM('Jury A'!B14:D14)/Jury_A","v":0},{"$f":"SUM('Jury A'!E14:G14)/Jury_A","v":0},{"$f":"SUM('Jury A'!H14:J14)/Jury_A","v":0},{"$f":"SUM('Jury A'!K14:M14)/Jury_A","v":0},{"$f":"SUM('Jury A'!N14:P14)/Jury_A","v":0},{"$f":"SUM('Jury A'!Q14:S14)/Jury_A","v":0},{"$f":"SUM('Jury B'!B15:D15)/Jury_B","v":0},{"$f":"SUM('Jury B'!E15:G15)/Jury_B","v":0},{"$f":"SUM('Jury B'!H15:J15)/Jury_B","v":0},{"$f":"SUM('Jury B'!K15:M15)/Jury_B","v":0},{"$f":"SUM('Jury B(2)'!B15:D15)/Jury_B","v":0},{"$f":"SUM('Jury B(2)'!E15:G15)/Jury_B","v":0},{"$f":"SUM('Jury B(2)'!H15:J15)/Jury_B","v":0},{"$f":"SUM('Jury B(2)'!K15:M15)/Jury_B","v":0},0,{"$f":"RANK(Q14,$Q$6:$Q$14)","v":1},1]
[10,{"$f":"'Jury A'!T15","v":0},{"$f":"SUM('Jury A'!B15:D15)/Jury_A","v":0},{"$f":"SUM('Jury A'!E15:G15)/Jury_A","v":0},{"$f":"SUM('Jury A'!H15:J15)/Jury_A","v":0},{"$f":"SUM('Jury A'!K15:M15)/Jury_A","v":0},{"$f":"SUM('Jury A'!N15:P15)/Jury_A","v":0},{"$f":"SUM('Jury A'!Q15:S15)/Jury_A","v":0},{"$f":"SUM('Jury B'!B16:D16)/Jury_B","v":0},{"$f":"SUM('Jury B'!E16:G16)/Jury_B","v":0},{"$f":"SUM('Jury B'!H16:J16)/Jury_B","v":0},{"$f":"SUM('Jury B'!K16:M16)/Jury_B","v":0},{"$f":"SUM('Jury B(2)'!B16:D16)/Jury_B","v":0},{"$f":"SUM('Jury B(2)'!E16:G16)/Jury_B","v":0},{"$f":"SUM('Jury B(2)'!H16:J16)/Jury_B","v":0},{"$f":"SUM('Jury B(2)'!K16:M16)/Jury_B","v":0},0,{"$f":"RANK(Q15,$Q$6:$Q$25)","v":1},{"$f":"RANK(R15,$R$6:$R$25)","v":1}]
[11,{"$f":"'Jury A'!T16","v":0},{"$f":"SUM('Jury A'!B16:D16)/Jury_A","v":0},{"$f":"SUM('Jury A'!E16:G16)/Jury_A","v":0},{"$f":"SUM('Jury A'!H16:J16)/Jury_A","v":0},{"$f":"SUM('Jury A'!K16:M16)/Jury_A","v":0},{"$f":"SUM('Jury A'!N16:P16)/Jury_A","v":0},{"$f":"SUM('Jury A'!Q16:S16)/Jury_A","v":0},{"$f":"SUM('Jury B'!B17:D17)/Jury_B","v":0},{"$f":"SUM('Jury B'!E17:G17)/Jury_B","v":0},{"$f":"SUM('Jury B'!H17:J17)/Jury_B","v":0},{"$f":"SUM('Jury B'!K17:M17)/Jury_B","v":0},{"$f":"SUM('Jury B(2)'!B17:D17)/Jury_B","v":0},{"$f":"SUM('Jury B(2)'!E17:G17)/Jury_B","v":0},{"$f":"SUM('Jury B(2)'!H17:J17)/Jury_B","v":0},{"$f":"SUM('Jury B(2)'!K17:M17)/Jury_B","v":0},0,1,1]
[12,{"$f":"'Jury A'!T17","v":0},{"$f":"SUM('Jury A'!B17:D17)/Jury_A","v":0},{"$f":"SUM('Jury A'!E17:G17)/Jury_A","v":0},{"$f":"SUM('Jury A'!H17:J17)/Jury_A","v":0},{"$f":"SUM('Jury A'!K17:M17)/Jury_A","v":0},{"$f":"SUM('Jury A'!N17:P17)/Jury_A","v":0},{"$f":"SUM('Jury A'!Q17:S17)/Jury_A","v":0},{"$f":"SUM('Jury B'!B18:D18)/Jury_B","v":0},{"$f":"SUM('Jury B'!E18:G18)/Jury_B","v":0},{"$f":"SUM('Jury B'!H18:J18)/Jury_B","v":0},{"$f":"SUM('Jury B'!K18:M18)/Jury_B","v":0},{"$f":"SUM('Jury B(2)'!B18:D18)/Jury_B","v":0},{"$f":"SUM('Jury B(2)'!E18:G18)/Jury_B","v":0},{"$f":"SUM('Jury B(2)'!H18:J18)/Jury_B","v":0},{"$f":"SUM('Jury B(2)'!K18:M18)/Jury_B","v":0},0,1,1]
[13,{"$f":"'Jury A'!T18","v":0},{"$f":"SUM('Jury A'!B18:D18)/Jury_A","v":0},{"$f":"SUM('Jury A'!E18:G18)/Jury_A","v":0},{"$f":"SUM('Jury A'!H18:J18)/Jury_A","v":0},{"$f":"SUM('Jury A'!K18:M18)/Jury_A","v":0},{"$f":"SUM('Jury A'!N18:P18)/Jury_A","v":0},{"$f":"SUM('Jury A'!Q18:S18)/Jury_A","v":0},{"$f":"SUM('Jury B'!B19:D19)/Jury_B","v":0},{"$f":"SUM('Jury B'!E19:G19)/Jury_B","v":0},{"$f":"SUM('Jury B'!H19:J19)/Jury_B","v":0},{"$f":"SUM('Jury B'!K19:M19)/Jury_B","v":0},{"$f":"SUM('Jury B(2)'!B19:D19)/Jury_B","v":0},{"$f":"SUM('Jury B(2)'!E19:G19)/Jury_B","v":0},{"$f":"SUM('Jury B(2)'!H19:J19)/Jury_B","v":0},{"$f":"SUM('Jury B(2)'!K19:M19)/Jury_B","v":0},0,1,1]
[14,{"$f":"'Jury A'!T19","v":0},{"$f":"SUM('Jury A'!B19:D19)/Jury_A","v":0},{"$f":"SUM('Jury A'!E19:G19)/Jury_A","v":0},{"$f":"SUM('Jury A'!H19:J19)/Jury_A","v":0},{"$f":"SUM('Jury A'!K19:M19)/Jury_A","v":0},{"$f":"SUM('Jury A'!N19:P19)/Jury_A","v":0},{"$f":"SUM('Jury A'!Q19:S19)/Jury_A","v":0},{"$f":"SUM('Jury B'!B20:D20)/Jury_B","v":0},{"$f":"SUM('Jury B'!E20:G20)/Jury_B","v":0},{"$f":"SUM('Jury B'!H20:J20)/Jury_B","v":0},{"$f":"SUM('Jury B'!K20:M20)/Jury_B","v":0},{"$f":"SUM('Jury B(2)'!B20:D20)/Jury_B","v":0},{"$f":"SUM('Jury B(2)'!E20:G20)/Jury_B","v":0},{"$f":"SUM('Jury B(2)'!H20:J20)/Jury_B","v":0},{"$f":"SUM('Jury B(2)'!K20:M20)/Jury_B","v":0},0,1,1]
[15,{"$f":"'Jury A'!T20","v":0},{"$f":"SUM('Jury A'!B20:D20)/Jury_A","v":0},{"$f":"SUM('Jury A'!E20:G20)/Jury_A","v":0},{"$f":"SUM('Jury A'!H20:J20)/Jury_A","v":0},{"$f":"SUM('Jury A'!K20:M20)/Jury_A","v":0},{"$f":"SUM('Jury A'!N20:P20)/Jury_A","v":0},{"$f":"SUM('Jury A'!Q20:S20)/Jury_A","v":0},{"$f":"SUM('Jury B'!B21:D21)/Jury_B","v":0},{"$f":"SUM('Jury B'!E21:G21)/Jury_B","v":0},{"$f":"SUM('Jury B'!H21:J21)/Jury_B","v":0},{"$f":"SUM('Jury B'!K21:M21)/Jury_B","v":0},{"$f":"SUM('Jury B(2)'!B21:D21)/Jury_B","v":0},{"$f":"SUM('Jury B(2)'!E21:G21)/Jury_B","v":0},{"$f":"SUM('Jury B(2)'!H21:J21)/Jury_B","v":0},{"$f":"SUM('Jury B(2)'!K21:M21)/Jury_B","v":0},0,1,1]
[16,{"$f":"'Jury A'!T21","v":0},{"$f":"SUM('Jury A'!B21:D21)/Jury_A","v":0},{"$f":"SUM('Jury A'!E21:G21)/Jury_A","v":0},{"$f":"SUM('Jury A'!H21:J21)/Jury_A","v":0},{"$f":"SUM('Jury A'!K21:M21)/Jury_A","v":0},{"$f":"SUM('Jury A'!N21:P21)/Jury_A","v":0},{"$f":"SUM('Jury A'!Q21:S21)/Jury_A","v":0},{"$f":"SUM('Jury B'!B22:D22)/Jury_B","v":0},{"$f":"SUM('Jury B'!E22:G22)/Jury_B","v":0},{"$f":"SUM('Jury B'!H22:J22)/Jury_B","v":0},{"$f":"SUM('Jury B'!K22:M22)/Jury_B","v":0},{"$f":"SUM('Jury B(2)'!B22:D22)/Jury_B","v":0},{"$f":"SUM('Jury B(2)'!E22:G22)/Jury_B","v":0},{"$f":"SUM('Jury B(2)'!H22:J22)/Jury_B","v":0},{"$f":"SUM('Jury B(2)'!K22:M22)/Jury_B","v":0},0,1,1]
[17,{"$f":"'Jury A'!T22","v":0},{"$f":"SUM('Jury A'!B22:D22)/Jury_A","v":0},{"$f":"SUM('Jury A'!E22:G22)/Jury_A","v":0},{"$f":"SUM('Jury A'!H22:J22)/Jury_A","v":0},{"$f":"SUM('Jury A'!K22:M22)/Jury_A","v":0},{"$f":"SUM('Jury A'!N22:P22)/Jury_A","v":0},{"$f":"SUM('Jury A'!Q22:S22)/Jury_A","v":0},{"$f":"SUM('Jury B'!B23:D23)/Jury_B","v":0},{"$f":"SUM('Jury B'!E23:G23)/Jury_B","v":0},{"$f":"SUM('Jury B'!H23:J23)/Jury_B","v":0},{"$f":"SUM('Jury B'!K23:M23)/Jury_B","v":0},{"$f":"SUM('Jury B(2)'!B23:D23)/Jury_B","v":0},{"$f":"SUM('Jury B(2)'!E23:G23)/Jury_B","v":0},{"$f":"SUM('Jury B(2)'!H23:J23)/Jury_B","v":0},{"$f":"SUM('Jury B(2)'!K23:M23)/Jury_B","v":0},0,1,1]
[18,{"$f":"'Jury A'!T23","v":0},{"$f":"SUM('Jury A'!B23:D23)/Jury_A","v":0},{"$f":"SUM('Jury A'!E23:G23)/Jury_A","v":0},{"$f":"SUM('Jury A'!H23:J23)/Jury_A","v":0},{"$f":"SUM('Jury A'!K23:M23)/Jury_A","v":0},{"$f":"SUM('Jury A'!N23:P23)/Jury_A","v":0},{"$f":"SUM('Jury A'!Q23:S23)/Jury_A","v":0},{"$f":"SUM('Jury B'!B24:D24)/Jury_B","v":0},{"$f":"SUM('Jury B'!E24:G24)/Jury_B","v":0},{"$f":"SUM('Jury B'!H24:J24)/Jury_B","v":0},{"$f":"SUM('Jury B'!K24:M24)/Jury_B","v":0},{"$f":"SUM('Jury B(2)'!B24:D24)/Jury_B","v":0},{"$f":"SUM('Jury B(2)'!E24:G24)/Jury_B","v":0},{"$f":"SUM('Jury B(2)'!H24:J24)/Jury_B","v":0},{"$f":"SUM('Jury B(2)'!K24:M24)/Jury_B","v":0},0,1,1]
[19,{"$f":"'Jury A'!T24","v":0},{"$f":"SUM('Jury A'!B24:D24)/Jury_A","v":0},{"$f":"SUM('Jury A'!E24:G24)/Jury_A","v":0},{"$f":"SUM('Jury A'!H24:J24)/Jury_A","v":0},{"$f":"SUM('Jury A'!K24:M24)/Jury_A","v":0},{"$f":"SUM('Jury A'!N24:P24)/Jury_A","v":0},{"$f":"SUM('Jury A'!Q24:S24)/Jury_A","v":0},{"$f":"SUM('Jury B'!B25:D25)/Jury_B","v":0},{"$f":"SUM('Jury B'!E25:G25)/Jury_B","v":0},{"$f":"SUM('Jury B'!H25:J25)/Jury_B","v":0},{"$f":"SUM('Jury B'!K25:M25)/Jury_B","v":0},{"$f":"SUM('Jury B(2)'!B25:D25)/Jury_B","v":0},{"$f":"SUM('Jury B(2)'!E25:G25)/Jury_B","v":0},{"$f":"SUM('Jury B(2)'!H25:J25)/Jury_B","v":0},{"$f":"SUM('Jury B(2)'!K25:M25)/Jury_B","v":0},0,1,1]
[20,{"$f":"'Jury A'!T25","v":0},{"$f":"SUM('Jury A'!B25:D25)/Jury_A","v":0},{"$f":"SUM('Jury A'!E25:G25)/Jury_A","v":0},{"$f":"SUM('Jury A'!H25:J25)/Jury_A","v":0},{"$f":"SUM('Jury A'!K25:M25)/Jury_A","v":0},{"$f":"SUM('Jury A'!N25:P25)/Jury_A","v":0},{"$f":"SUM('Jury A'!Q25:S25)/Jury_A","v":0},{"$f":"SUM('Jury B'!B26:D26)/Jury_B","v":0},{"$f":"SUM('Jury B'!E26:G26)/Jury_B","v":0},{"$f":"SUM('Jury B'!H26:J26)/Jury_B","v":0},{"$f":"SUM('Jury B'!K26:M26)/Jury_B","v":0},{"$f":"SUM('Jury B(2)'!B26:D26)/Jury_B","v":0},{"$f":"SUM('Jury B(2)'!E26:G26)/Jury_B","v":0},{"$f":"SUM('Jury B(2)'!H26:J26)/Jury_B","v":0},{"$f":"SUM('Jury B(2)'!K26:M26)/Jury_B","v":0},0,1,1]
[21,{"$f":"'Jury A'!T26","v":0},{"$f":"SUM('Jury A'!B26:D26)/Jury_A","v":0},{"$f":"SUM('Jury A'!E26:G26)/Jury_A","v":0},{"$f":"SUM('Jury A'!H26:J26)/Jury_A","v":0},{"$f":"SUM('Jury A'!K26:M26)/Jury_A","v":0},{"$f":"SUM('Jury A'!N26:P26)/Jury_A","v":0},{"$f":"SUM('Jury A'!Q26:S26)/Jury_A","v":0},{"$f":"SUM('Jury B'!B27:D27)/Jury_B","v":0},{"$f":"SUM('Jury B'!E27:G27)/Jury_B","v":0},{"$f":"SUM('Jury B'!H27:J27)/Jury_B","v":0},{"$f":"SUM('Jury B'!K27:M27)/Jury_B","v":0},{"$f":"SUM('Jury B(2)'!B27:D27)/Jury_B","v":0},{"$f":"SUM('Jury B(2)'!E27:G27)/Jury_B","v":0},{"$f":"SUM('Jury B(2)'!H27:J27)/Jury_B","v":0},{"$f":"SUM('Jury B(2)'!K27:M27)/Jury_B","v":0},0,{"$f":"RANK(Q26,$Q$6:$Q$30)","v":1},{"$f":"RANK(R26,$R$6:$R$30)","v":1}]
[22,{"$f":"'Jury A'!T27","v":0},{"$f":"SUM('Jury A'!B27:D27)/Jury_A","v":0},{"$f":"SUM('Jury A'!E27:G27)/Jury_A","v":0},{"$f":"SUM('Jury A'!H27:J27)/Jury_A","v":0},{"$f":"SUM('Jury A'!K27:M27)/Jury_A","v":0},{"$f":"SUM('Jury A'!N27:P27)/Jury_A","v":0},{"$f":"SUM('Jury A'!Q27:S27)/Jury_A","v":0},{"$f":"SUM('Jury B'!B28:D28)/Jury_B","v":0},{"$f":"SUM('Jury B'!E28:G28)/Jury_B","v":0},{"$f":"SUM('Jury B'!H28:J28)/Jury_B","v":0},{"$f":"SUM('Jury B'!K28:M28)/Jury_B","v":0},{"$f":"SUM('Jury B(2)'!B28:D28)/Jury_B","v":0},{"$f":"SUM('Jury B(2)'!E28:G28)/Jury_B","v":0},{"$f":"SUM('Jury B(2)'!H28:J28)/Jury_B","v":0},{"$f":"SUM('Jury B(2)'!K28:M28)/Jury_B","v":0},0,{"$f":"RANK(Q27,$Q$6:$Q$30)","v":1},{"$f":"RANK(R27,$R$6:$R$30)","v":1}]
[23,{"$f":"'Jury A'!T28","v":0},{"$f":"SUM('Jury A'!B28:D28)/Jury_A","v":0},{"$f":"SUM('Jury A'!E28:G28)/Jury_A","v":0},{"$f":"SUM('Jury A'!H28:J28)/Jury_A","v":0},{"$f":"SUM('Jury A'!K28:M28)/Jury_A","v":0},{"$f":"SUM('Jury A'!N28:P28)/Jury_A","v":0},{"$f":"SUM('Jury A'!Q28:S28)/Jury_A","v":0},{"$f":"SUM('Jury B'!B29:D29)/Jury_B","v":0},{"$f":"SUM('Jury B'!E29:G29)/Jury_B","v":0},{"$f":"SUM('Jury B'!H29:J29)/Jury_B","v":0},{"$f":"SUM('Jury B'!K29:M29)/Jury_B","v":0},{"$f":"SUM('Jury B(2)'!B29:D29)/Jury_B","v":0},{"$f":"SUM('Jury B(2)'!E29:G29)/Jury_B","v":0},{"$f":"SUM('Jury B(2)'!H29:J29)/Jury_B","v":0},{"$f":"SUM('Jury B(2)'!K29:M29)/Jury_B","v":0},0,{"$f":"RANK(Q28,$Q$6:$Q$30)","v":1},{"$f":"RANK(R28,$R$6:$R$30)","v":1}]
[24,{"$f":"'Jury A'!T29","v":0},{"$f":"SUM('Jury A'!B29:D29)/Jury_A","v":0},{"$f":"SUM('Jury A'!E29:G29)/Jury_A","v":0},{"$f":"SUM('Jury A'!H29:J29)/Jury_A","v":0},{"$f":"SUM('Jury A'!K29:M29)/Jury_A","v":0},{"$f":"SUM('Jury A'!N29:P29)/Jury_A","v":0},{"$f":"SUM('Jury A'!Q29:S29)/Jury_A","v":0},{"$f":"SUM('Jury B'!B30:D30)/Jury_B","v":0},{"$f":"SUM('Jury B'!E30:G30)/Jury_B","v":0},{"$f":"SUM('Jury B'!H30:J30)/Jury_B","v":0},{"$f":"SUM('Jury B'!K30:M30)/Jury_B","v":0},{"$f":"SUM('Jury B(2)'!B30:D30)/Jury_B","v":0},{"$f":"SUM('Jury B(2)'!E30:G30)/Jury_B","v":0},{"$f":"SUM('Jury B(2)'!H30:J30)/Jury_B","v":0},{"$f":"SUM('Jury B(2)'!K30:M30)/Jury_B","v":0},0,{"$f":"RANK(Q29,$Q$6:$Q$30)","v":1},{"$f":"RANK(R29,$R$6:$R$30)","v":1}]
[25,{"$f":"'Jury A'!T30","v":0},{"$f":"SUM('Jury A'!B30:D30)/Jury_A","v":0},{"$f":"SUM('Jury A'!E30:G30)/Jury_A","v":0},{"$f":"SUM('Jury A'!H30:J30)/Jury_A","v":0},{"$f":"SUM('Jury A'!K30:M30)/Jury_A","v":0},{"$f":"SUM('Jury A'!N30:P30)/Jury_A","v":0},{"$f":"SUM('Jury A'!Q30:S30)/Jury_A","v":0},{"$f":"SUM('Jury B'!B31:D31)/Jury_B","v":0},{"$f":"SUM('Jury B'!E31:G31)/Jury_B","v":0},{"$f":"SUM('Jury B'!H31:J31)/Jury_B","v":0},{"$f":"SUM('Jury B'!K31:M31)/Jury_B","v":0},{"$f":"SUM('Jury B(2)'!B31:D31)/Jury_B","v":0},{"$f":"SUM('Jury B(2)'!E31:G31)/Jury_B","v":0},{"$f":"SUM('Jury B(2)'!H31:J31)/Jury_B","v":0},{"$f":"SUM('Jury B(2)'!K31:M31)/Jury_B","v":0},0,{"$f":"RANK(Q30,$Q$6:$Q$30)","v":1},{"$f":"RANK(R30,$R$6:$R$30)","v":1}]

{"sheet":"PRESSE","index":6,"n_rows":27,"n_cols":10,"rows_kept":27,"cut":false,"hidden":false,"merged":[[26,0,26,1],[0,0,2,4],[25,1,25,4],[27,0,27,4]]}
[]
[]
[]
[]
["Platz","Name, Vorname:","Nr.","Betrieb und Betriebsort:","Kochverein:"]
[{"$f":"IF(Ergebnisse!S6<=6,4,IF(Ergebnisse!S6<=7,3,IF(Ergebnisse!S6<=8,2,IF(Ergebnisse!S6<=9,1))))","v":4},{"$f":"'Guten Tag'!B6","v":0},{"$f":"'Guten Tag'!A6","v":1},{"$f":"'Guten Tag'!C6","v":0},{"$f":"'Guten Tag'!D6","v":0}]
[{"$f":"IF(Ergebnisse!S7<=6,4,IF(Ergebnisse!S7<=7,3,IF(Ergebnisse!S7<=8,2,IF(Ergebnisse!S7<=9,1))))","v":4},{"$f":"'Guten Tag'!B7","v":0},{"$f":"'Guten Tag'!A7","v":2},{"$f":"'Guten Tag'!C7","v":0},{"$f":"'Guten Tag'!D7","v":0}]
[{"$f":"IF(Ergebnisse!S8<=6,4,IF(Ergebnisse!S8<=7,3,IF(Ergebnisse!S8<=8,2,IF(Ergebnisse!S8<=9,1))))","v":4},{"$f":"'Guten Tag'!B8","v":0},{"$f":"'Guten Tag'!A8","v":3},{"$f":"'Guten Tag'!C8","v":0},{"$f":"'Guten Tag'!D8","v":0}]
[{"$f":"IF(Ergebnisse!S9<=6,4,IF(Ergebnisse!S9<=7,3,IF(Ergebnisse!S9<=8,2,IF(Ergebnisse!S9<=9,1))))","v":4},{"$f":"'Guten Tag'!B9","v":0},{"$f":"'Guten Tag'!A9","v":4},{"$f":"'Guten Tag'!C9","v":0},{"$f":"'Guten Tag'!D9","v":0}]
[{"$f":"IF(Ergebnisse!S10<=6,4,IF(Ergebnisse!S10<=7,3,IF(Ergebnisse!S10<=8,2,IF(Ergebnisse!S10<=9,1))))","v":4},{"$f":"'Guten Tag'!B10","v":0},{"$f":"'Guten Tag'!A10","v":5},{"$f":"'Guten Tag'!C10","v":0},{"$f":"'Guten Tag'!D10","v":0}]
[{"$f":"IF(Ergebnisse!S11<=6,4,IF(Ergebnisse!S11<=7,3,IF(Ergebnisse!S11<=8,2,IF(Ergebnisse!S11<=9,1))))","v":4},{"$f":"'Guten Tag'!B11","v":0},{"$f":"'Guten Tag'!A11","v":6},{"$f":"'Guten Tag'!C11","v":0},{"$f":"'Guten Tag'!D11","v":0}]
[{"$f":"IF(Ergebnisse!S12<=6,4,IF(Ergebnisse!S12<=7,3,IF(Ergebnisse!S12<=8,2,IF(Ergebnisse!S12<=9,1))))","v":4},{"$f":"'Guten Tag'!B12","v":0},{"$f":"'Guten Tag'!A12","v":7},{"$f":"'Guten Tag'!C12","v":0},{"$f":"'Guten Tag'!D12","v":0}]
[{"$f":"IF(Ergebnisse!S13<=6,4,IF(Ergebnisse!S13<=7,3,IF(Ergebnisse!S13<=8,2,IF(Ergebnisse!S13<=9,1))))","v":4},{"$f":"'Guten Tag'!B13","v":0},{"$f":"'Guten Tag'!A13","v":8},{"$f":"'Guten Tag'!C13","v":0},{"$f":"'Guten Tag'!D13","v":0}]
[{"$f":"IF(Ergebnisse!S14<=6,4,IF(Ergebnisse!S14<=7,3,IF(Ergebnisse!S14<=8,2,IF(Ergebnisse!S14<=9,1))))","v":4},{"$f":"'Guten Tag'!B14","v":0},{"$f":"'Guten Tag'!A14","v":9},{"$f":"'Guten Tag'!C14","v":0},{"$f":"'Guten Tag'!D14","v":0}]
[{"$f":"IF(Ergebnisse!S15<=17,4,IF(Ergebnisse!S15<=18,3,IF(Ergebnisse!S15<=19,2,IF(Ergebnisse!S15<=20,1))))","v":4},{"$f":"'Guten Tag'!B15","v":0},{"$f":"'Guten Tag'!A15","v":10},{"$f":"'Guten Tag'!C15","v":0},{"$f":"'Guten Tag'!D15","v":0}]
[{"$f":"IF(Ergebnisse!S16<=17,4,IF(Ergebnisse!S16<=18,3,IF(Ergebnisse!S16<=19,2,IF(Ergebnisse!S16<=20,1))))","v":4},{"$f":"'Guten Tag'!B16","v":0},{"$f":"'Guten Tag'!A16","v":11},{"$f":"'Guten Tag'!C16","v":0},{"$f":"'Guten Tag'!D16","v":0}]
[{"$f":"IF(Ergebnisse!S17<=17,4,IF(Ergebnisse!S17<=18,3,IF(Ergebnisse!S17<=19,2,IF(Ergebnisse!S17<=20,1))))","v":4},{"$f":"'Guten Tag'!B17","v":0},{"$f":"'Guten Tag'!A17","v":12},{"$f":"'Guten Tag'!C17","v":0},{"$f":"'Guten Tag'!D17","v":0},null,null,null,null,"LL"]
[{"$f":"IF(Ergebnisse!S18<=17,4,IF(Ergebnisse!S18<=18,3,IF(Ergebnisse!S18<=19,2,IF(Ergebnisse!S18<=20,1))))","v":4},{"$f":"'Guten Tag'!B18","v":0},{"$f":"'Guten Tag'!A18","v":13},{"$f":"'Guten Tag'!C18","v":0},{"$f":"'Guten Tag'!D18","v":0}]
[{"$f":"IF(Ergebnisse!S19<=17,4,IF(Ergebnisse!S19<=18,3,IF(Ergebnisse!S19<=19,2,IF(Ergebnisse!S19<=20,1))))","v":4},{"$f":"'Guten Tag'!B19","v":0},{"$f":"'Guten Tag'!A19","v":14},{"$f":"'Guten Tag'!C19","v":0},{"$f":"'Guten Tag'!D19","v":0}]
[{"$f":"IF(Ergebnisse!S20<=17,4,IF(Ergebnisse!S20<=18,3,IF(Ergebnisse!S20<=19,2,IF(Ergebnisse!S20<=20,1))))","v":4},{"$f":"'Guten Tag'!B20","v":0},{"$f":"'Guten Tag'!A20","v":15},{"$f":"'Guten Tag'!C20","v":0},{"$f":"'Guten Tag'!D20","v":0}]
[{"$f":"IF(Ergebnisse!S21<=17,4,IF(Ergebnisse!S21<=18,3,IF(Ergebnisse!S21<=19,2,IF(Ergebnisse!S21<=20,1))))","v":4},{"$f":"'Guten Tag'!B21","v":0},{"$f":"'Guten Tag'!A21","v":16},{"$f":"'Guten Tag'!C21","v":0},{"$f":"'Guten Tag'!D21","v":0}]
[{"$f":"IF(Ergebnisse!S22<=17,4,IF(Ergebnisse!S22<=18,3,IF(Ergebnisse!S22<=19,2,IF(Ergebnisse!S22<=20,1))))","v":4},{"$f":"'Guten Tag'!B22","v":0},{"$f":"'Guten Tag'!A22","v":17},{"$f":"'Guten Tag'!C22","v":0},{"$f":"'Guten Tag'!D22","v":0}]
[{"$f":"IF(Ergebnisse!S23<=17,4,IF(Ergebnisse!S23<=18,3,IF(Ergebnisse!S23<=19,2,IF(Ergebnisse!S23<=20,1))))","v":4},{"$f":"'Guten Tag'!B23","v":0},{"$f":"'Guten Tag'!A23","v":18},{"$f":"'Guten Tag'!C23","v":0},{"$f":"'Guten Tag'!D23","v":0}]
[{"$f":"IF(Ergebnisse!S24<=17,4,IF(Ergebnisse!S24<=18,3,IF(Ergebnisse!S24<=19,2,IF(Ergebnisse!S24<=20,1))))","v":4},{"$f":"'Guten Tag'!B24","v":0},{"$f":"'Guten Tag'!A24","v":19},{"$f":"'Guten Tag'!C24","v":0},{"$f":"'Guten Tag'!D24","v":0}]
[{"$f":"IF(Ergebnisse!S25<=17,4,IF(Ergebnisse!S25<=18,3,IF(Ergebnisse!S25<=19,2,IF(Ergebnisse!S25<=20,1))))","v":4},{"$f":"'Guten Tag'!B25","v":0},{"$f":"'Guten Tag'!A25","v":20},{"$f":"'Guten Tag'!C25","v":0},{"$f":"'Guten Tag'!D25","v":0}]
["JURY:"]
[{"$f":"TODAY()","v":"2015-05-28"}]